BEGIN:VCALENDAR
VERSION:2.0
PRODID:-//hacksw/handcal//NONSGML v1.0//EN
BEGIN:VEVENT
SUMMARY:Regates riviere a Laval
UID:a7331b98-d430-48bb-9b24-417d7e411946
DTSTART:20260404T220000Z
DTEND:20260405T220000Z
LOCATION:Localisation   
CATEGORIES:Sportif
STATUS:
URL;VALUE=URI:https://www.avironlemans.com/evenements/2026/04/05/regates-riviere-a-laval-2416624
END:VEVENT
END:VCALENDAR
