BEGIN:VCALENDAR
VERSION:2.0
PRODID:-//hacksw/handcal//NONSGML v1.0//EN
BEGIN:VEVENT
SUMMARY:Regates de mer Loisirs a St Malo
UID:66341af7-834c-49be-8a08-3ccad6fadf28
DTSTART:20260327T230000Z
DTEND:20260328T230000Z
LOCATION:Localisation   
CATEGORIES:Sportif
STATUS:
URL;VALUE=URI:https://www.avironlemans.com/evenements/2026/03/28/regates-de-mer-loisirs-a-st-malo-2416627
END:VEVENT
END:VCALENDAR
