BEGIN:VCALENDAR
VERSION:2.0
PRODID:-//hacksw/handcal//NONSGML v1.0//EN
BEGIN:VEVENT
SUMMARY:Sortie Loisirs a Angers
UID:365c9669-9a9c-4980-812b-9969b98cb6fc
DTSTART:20260321T230000Z
DTEND:20260322T230000Z
LOCATION:Localisation   
CATEGORIES:Sportif
STATUS:
URL;VALUE=URI:https://www.avironlemans.com/evenements/2026/03/22/sortie-loisirs-a-angers-2416612
END:VEVENT
END:VCALENDAR
